BEGIN:VCALENDAR
PRODID:-//HKUST Drupal Platform//EN
VERSION:2.0
BEGIN:VTIMEZONE
TZID:Asia/Hong_Kong
BEGIN:STANDARD
DTSTART:20071104T020000
TZOFFSETFROM:+0700
TZOFFSETTO:+0800
TZNAME:HKT
END:STANDARD
END:VTIMEZONE
BEGIN:VEVENT
DTSTAMP;TZID=UTC:20260425T204544
DTSTART;TZID=UTC:20201020T000000
DTEND;TZID=UTC:20201021T235900
LOCATION:Webinar
SUMMARY:6RAQM virtual conference : RAQM & Co-control of ozone & PM - From Science to Policy: Challenges & Solutions Towards Cleaner Air
UID:383
END:VEVENT
END:VCALENDAR