BEGIN:VCALENDAR
PRODID:-//HKUST Drupal Platform//EN
VERSION:2.0
BEGIN:VTIMEZONE
TZID:Asia/Hong_Kong
BEGIN:STANDARD
DTSTART:20071104T020000
TZOFFSETFROM:+0700
TZOFFSETTO:+0800
TZNAME:HKT
END:STANDARD
END:VTIMEZONE
BEGIN:VEVENT
DTSTAMP;TZID=UTC:20260425T114807
DTSTART;TZID=UTC:20230628T160000
DTEND;TZID=UTC:20230628T180000
LOCATION:Conference Room, Hong Kong Academy of Finance
SUMMARY:Accelerating the Transition to a Net-Zero Global Economy: Regulatory Climate Disclosure and Risk Analysis
UID:479
END:VEVENT
END:VCALENDAR