BEGIN:VCALENDAR
PRODID:-//HKUST Drupal Platform//EN
VERSION:2.0
BEGIN:VTIMEZONE
TZID:Asia/Hong_Kong
BEGIN:STANDARD
DTSTART:20071104T020000
TZOFFSETFROM:+0700
TZOFFSETTO:+0800
TZNAME:HKT
END:STANDARD
END:VTIMEZONE
BEGIN:VEVENT
DTSTAMP;TZID=UTC:20260425T114807
DTSTART;TZID=UTC:20240221T093000
DTEND;TZID=UTC:20240221T123000
LOCATION:BEC Auditorium
SUMMARY:Post-COP28 Hong Kong Forum
UID:481
END:VEVENT
END:VCALENDAR