BEGIN:VCALENDAR
PRODID:-//HKUST Drupal Platform//EN
VERSION:2.0
BEGIN:VTIMEZONE
TZID:Asia/Hong_Kong
BEGIN:STANDARD
DTSTART:20071104T020000
TZOFFSETFROM:+0700
TZOFFSETTO:+0800
TZNAME:HKT
END:STANDARD
END:VTIMEZONE
BEGIN:VEVENT
DTSTAMP;TZID=UTC:20260425T114808
DTSTART;TZID=UTC:20240921T160000
DTEND;TZID=UTC:20240921T180000
LOCATION:HKUST Campus, LT-D
SUMMARY:Eco-civilization and Sustainable Development Forum
UID:498
END:VEVENT
END:VCALENDAR