BEGIN:VCALENDAR
PRODID:-//HKUST Drupal Platform//EN
VERSION:2.0
BEGIN:VTIMEZONE
TZID:Asia/Hong_Kong
BEGIN:STANDARD
DTSTART:20071104T020000
TZOFFSETFROM:+0700
TZOFFSETTO:+0800
TZNAME:HKT
END:STANDARD
END:VTIMEZONE
BEGIN:VEVENT
DTSTAMP;TZID=UTC:20260426T023404
DTSTART;TZID=UTC:20180719T153000
DTEND;TZID=UTC:19700101T000000
LOCATION:HKUST Campus, Room 2405 (Lifts 17-18)
SUMMARY:Measurement and Modeling of Onroad Vehicle Air Pollutant Emissions and Exposure
UID:229
END:VEVENT
END:VCALENDAR