BEGIN:VCALENDAR
PRODID:-//HKUST Drupal Platform//EN
VERSION:2.0
BEGIN:VTIMEZONE
TZID:Asia/Hong_Kong
BEGIN:STANDARD
DTSTART:20071104T020000
TZOFFSETFROM:+0700
TZOFFSETTO:+0800
TZNAME:HKT
END:STANDARD
END:VTIMEZONE
BEGIN:VEVENT
DTSTAMP;TZID=UTC:20260420T013433
DTSTART;TZID=UTC:20190409T143000
DTEND;TZID=UTC:20190409T173000
LOCATION:HKUST Business School Central - 15/F Hong Kong Club Building
SUMMARY:Building Resilience through Sustainable Urban Water Management
UID:326
END:VEVENT
END:VCALENDAR