BEGIN:VCALENDAR
PRODID:-//HKUST Drupal Platform//EN
VERSION:2.0
BEGIN:VTIMEZONE
TZID:Asia/Hong_Kong
BEGIN:STANDARD
DTSTART:20071104T020000
TZOFFSETFROM:+0700
TZOFFSETTO:+0800
TZNAME:HKT
END:STANDARD
END:VTIMEZONE
BEGIN:VEVENT
DTSTAMP;TZID=UTC:20260421T002907
DTSTART;TZID=UTC:20161213T000000
DTEND;TZID=UTC:20161213T235900
LOCATION:HKUST Business School Central, 15/F, Hong Kong Club Building
SUMMARY:Paris and Marrakesh: Where is the Action on Climate Change going?
UID:238
END:VEVENT
END:VCALENDAR