BEGIN:VCALENDAR
PRODID:-//HKUST Drupal Platform//EN
VERSION:2.0
BEGIN:VTIMEZONE
TZID:Asia/Hong_Kong
BEGIN:STANDARD
DTSTART:20071104T020000
TZOFFSETFROM:+0700
TZOFFSETTO:+0800
TZNAME:HKT
END:STANDARD
END:VTIMEZONE
BEGIN:VEVENT
DTSTAMP;TZID=UTC:20260426T015407
DTSTART;TZID=UTC:20210505T030000
DTEND;TZID=UTC:19700101T000000
LOCATION:Webinar
SUMMARY:What is the best way to reduce plastic packaging waste in Hong Kong?
UID:406
END:VEVENT
END:VCALENDAR